BEGIN:VCALENDAR
VERSION:2.0
PRODID:-//Division 9, North Central Region, NMRA - ECPv6.15.10//NONSGML v1.0//EN
CALSCALE:GREGORIAN
METHOD:PUBLISH
X-WR-CALNAME:Division 9, North Central Region, NMRA
X-ORIGINAL-URL:https://div9.ncrnmra.org
X-WR-CALDESC:Events for Division 9, North Central Region, NMRA
REFRESH-INTERVAL;VALUE=DURATION:PT1H
X-Robots-Tag:noindex
X-PUBLISHED-TTL:PT1H
BEGIN:VTIMEZONE
TZID:UTC
BEGIN:STANDARD
TZOFFSETFROM:+0000
TZOFFSETTO:+0000
TZNAME:UTC
DTSTART:20230101T000000
END:STANDARD
END:VTIMEZONE
BEGIN:VEVENT
DTSTART;TZID=UTC:20241116T100000
DTEND;TZID=UTC:20241116T120000
DTSTAMP:20260425T014739
CREATED:20241022T220306Z
LAST-MODIFIED:20241022T220306Z
UID:76-1731751200-1731758400@div9.ncrnmra.org
SUMMARY:Membership Meeting 11/16
DESCRIPTION:Note: After the meeting at the Battle Creek Model Railroad Club in November\, the\nplan is for anyone interested in seeing Garry Johnson’s layout to stop by his house\nto get a firsthand look at the progress he has made.
URL:https://div9.ncrnmra.org/event/membership-meeting-11-16/
LOCATION:Battle Creek Model Railroad Club\, 2 West Michigan Ave Ste: B-1\, Battle Creek\, MI\, 49017\, United States
CATEGORIES:Membership Meeting
END:VEVENT
END:VCALENDAR