BEGIN:VCALENDAR
VERSION:2.0
PRODID:-//Division 9, North Central Region, NMRA - ECPv6.15.10//NONSGML v1.0//EN
CALSCALE:GREGORIAN
METHOD:PUBLISH
X-ORIGINAL-URL:https://div9.ncrnmra.org
X-WR-CALDESC:Events for Division 9, North Central Region, NMRA
REFRESH-INTERVAL;VALUE=DURATION:PT1H
X-Robots-Tag:noindex
X-PUBLISHED-TTL:PT1H
BEGIN:VTIMEZONE
TZID:UTC
BEGIN:STANDARD
TZOFFSETFROM:+0000
TZOFFSETTO:+0000
TZNAME:UTC
DTSTART:20250101T000000
END:STANDARD
END:VTIMEZONE
BEGIN:VEVENT
DTSTART;TZID=UTC:20260822T090000
DTEND;TZID=UTC:20260822T120000
DTSTAMP:20260425T142619
CREATED:20260221T010308Z
LAST-MODIFIED:20260221T010502Z
UID:264-1787389200-1787400000@div9.ncrnmra.org
SUMMARY:Division 9 Membership Meeting - Family Picnic Tentative
DESCRIPTION:Family Picnic Tentative
URL:https://div9.ncrnmra.org/event/division-9-membership-meeting-family-picnic-tentative/
LOCATION:TBA
CATEGORIES:Membership Meeting
END:VEVENT
BEGIN:VEVENT
DTSTART;TZID=UTC:20260919T090000
DTEND;TZID=UTC:20260919T120000
DTSTAMP:20260425T142619
CREATED:20260221T010433Z
LAST-MODIFIED:20260221T010433Z
UID:266-1789808400-1789819200@div9.ncrnmra.org
SUMMARY:Annual Membership Meeting
DESCRIPTION:Annual Membership Meeting
URL:https://div9.ncrnmra.org/event/annual-membership-meeting/
LOCATION:Kalamazoo Bridge Club\, 648 Maple Hill Drive\, Kalamazoo\, MI\, 49009\, United States
CATEGORIES:Membership Meeting
END:VEVENT
END:VCALENDAR