BEGIN:VCALENDAR
VERSION:2.0
PRODID:-//Division 9, North Central Region, NMRA - ECPv6.15.10//NONSGML v1.0//EN
CALSCALE:GREGORIAN
METHOD:PUBLISH
X-ORIGINAL-URL:https://div9.ncrnmra.org
X-WR-CALDESC:Events for Division 9, North Central Region, NMRA
REFRESH-INTERVAL;VALUE=DURATION:PT1H
X-Robots-Tag:noindex
X-PUBLISHED-TTL:PT1H
BEGIN:VTIMEZONE
TZID:UTC
BEGIN:STANDARD
TZOFFSETFROM:+0000
TZOFFSETTO:+0000
TZNAME:UTC
DTSTART:20250101T000000
END:STANDARD
END:VTIMEZONE
BEGIN:VEVENT
DTSTART;TZID=UTC:20260321T090000
DTEND;TZID=UTC:20260321T120000
DTSTAMP:20260424T195608
CREATED:20260221T004250Z
LAST-MODIFIED:20260221T004552Z
UID:246-1774083600-1774094400@div9.ncrnmra.org
SUMMARY:Division 9 Membership Meeting
DESCRIPTION:Hands-on Clinic by Norm Logan & Barry Hensel\, on Upgrading Rolling Stock \nA two-hour presentation and hands-on opportunity to improve the operation of your layout rolling stock\, presented by Norm Logan & Barry Hensel from Division 6. Members can bring up to 6 cars from your collection of rolling stock\, to check them out during this clinic. Emphasis will be on wheels\, couplers\, weights\, and other facets affecting the performance of your railroad rolling stock.
URL:https://div9.ncrnmra.org/event/membership-meeting-9/
LOCATION:Kalamazoo Bridge Club\, 648 Maple Hill Drive\, Kalamazoo\, MI\, 49009\, United States
CATEGORIES:Membership Meeting
END:VEVENT
END:VCALENDAR