BEGIN:VCALENDAR
VERSION:2.0
PRODID:-//Division 9, North Central Region, NMRA - ECPv6.15.10//NONSGML v1.0//EN
CALSCALE:GREGORIAN
METHOD:PUBLISH
X-WR-CALNAME:Division 9, North Central Region, NMRA
X-ORIGINAL-URL:https://div9.ncrnmra.org
X-WR-CALDESC:Events for Division 9, North Central Region, NMRA
REFRESH-INTERVAL;VALUE=DURATION:PT1H
X-Robots-Tag:noindex
X-PUBLISHED-TTL:PT1H
BEGIN:VTIMEZONE
TZID:UTC
BEGIN:STANDARD
TZOFFSETFROM:+0000
TZOFFSETTO:+0000
TZNAME:UTC
DTSTART:20240101T000000
END:STANDARD
END:VTIMEZONE
BEGIN:VEVENT
DTSTART;TZID=UTC:20251018T093000
DTEND;TZID=UTC:20251018T120000
DTSTAMP:20260425T035002
CREATED:20250401T234910Z
LAST-MODIFIED:20250919T030835Z
UID:201-1760779800-1760788800@div9.ncrnmra.org
SUMMARY:Membership Meeting
DESCRIPTION:
URL:https://div9.ncrnmra.org/event/membership-meeting-6/
LOCATION:Rooster Call – Shaver Road Location\, 9136 Shaver Rd\, Portage\, MI\, 49024\, United States
CATEGORIES:Membership Meeting
END:VEVENT
END:VCALENDAR