BEGIN:VCALENDAR
VERSION:2.0
PRODID:-//Division 9, North Central Region, NMRA - ECPv6.15.10//NONSGML v1.0//EN
CALSCALE:GREGORIAN
METHOD:PUBLISH
X-WR-CALNAME:Division 9, North Central Region, NMRA
X-ORIGINAL-URL:https://div9.ncrnmra.org
X-WR-CALDESC:Events for Division 9, North Central Region, NMRA
REFRESH-INTERVAL;VALUE=DURATION:PT1H
X-Robots-Tag:noindex
X-PUBLISHED-TTL:PT1H
BEGIN:VTIMEZONE
TZID:UTC
BEGIN:STANDARD
TZOFFSETFROM:+0000
TZOFFSETTO:+0000
TZNAME:UTC
DTSTART:20240101T000000
END:STANDARD
END:VTIMEZONE
BEGIN:VEVENT
DTSTART;TZID=UTC:20250315T093000
DTEND;TZID=UTC:20250315T120000
DTSTAMP:20260425T142305
CREATED:20241221T152855Z
LAST-MODIFIED:20250118T184138Z
UID:92-1742031000-1742040000@div9.ncrnmra.org
SUMMARY:Membership Meeting - Kalamazoo Model  RR Club
DESCRIPTION:Kalamazoo Model RR Club \nClinic with information\, training and demonstrations involving model railroad layout building.
URL:https://div9.ncrnmra.org/event/membership-meeting-3/
LOCATION:Kalamazoo Model Railroad\, 9336 N Riverview Dr.\, Kalamazoo\, MI\, 49004\, United States
CATEGORIES:Layout Visit,Membership Meeting
END:VEVENT
END:VCALENDAR