BEGIN:VCALENDAR
VERSION:2.0
PRODID:-//Division 9, North Central Region, NMRA - ECPv6.15.10//NONSGML v1.0//EN
CALSCALE:GREGORIAN
METHOD:PUBLISH
X-WR-CALNAME:Division 9, North Central Region, NMRA
X-ORIGINAL-URL:https://div9.ncrnmra.org
X-WR-CALDESC:Events for Division 9, North Central Region, NMRA
REFRESH-INTERVAL;VALUE=DURATION:PT1H
X-Robots-Tag:noindex
X-PUBLISHED-TTL:PT1H
BEGIN:VTIMEZONE
TZID:UTC
BEGIN:STANDARD
TZOFFSETFROM:+0000
TZOFFSETTO:+0000
TZNAME:UTC
DTSTART:20240101T000000
END:STANDARD
END:VTIMEZONE
BEGIN:VEVENT
DTSTART;TZID=UTC:20250118T093000
DTEND;TZID=UTC:20250118T110000
DTSTAMP:20260425T153848
CREATED:20241221T151316Z
LAST-MODIFIED:20241221T154140Z
UID:88-1737192600-1737198000@div9.ncrnmra.org
SUMMARY:Membership Meeting
DESCRIPTION:Ryan Yanez – General Manager\, will be speaking on the Grand Elk Railroad
URL:https://div9.ncrnmra.org/event/membership-meeting/
LOCATION:Kalamazoo Bridge Club\, 648 Maple Hill Drive\, Kalamazoo\, MI\, 49009\, United States
CATEGORIES:Membership Meeting
END:VEVENT
END:VCALENDAR