BEGIN:VCALENDAR
VERSION:2.0
PRODID:-//Division 9, North Central Region, NMRA - ECPv6.15.10//NONSGML v1.0//EN
CALSCALE:GREGORIAN
METHOD:PUBLISH
X-ORIGINAL-URL:https://div9.ncrnmra.org
X-WR-CALDESC:Events for Division 9, North Central Region, NMRA
REFRESH-INTERVAL;VALUE=DURATION:PT1H
X-Robots-Tag:noindex
X-PUBLISHED-TTL:PT1H
BEGIN:VTIMEZONE
TZID:UTC
BEGIN:STANDARD
TZOFFSETFROM:+0000
TZOFFSETTO:+0000
TZNAME:UTC
DTSTART:20240101T000000
END:STANDARD
END:VTIMEZONE
BEGIN:VEVENT
DTSTART;TZID=UTC:20260412T190000
DTEND;TZID=UTC:20260412T210000
DTSTAMP:20260424T200214
CREATED:20260221T004731Z
LAST-MODIFIED:20260221T004731Z
UID:250-1776020400-1776027600@div9.ncrnmra.org
SUMMARY:Division 9 Board Meeting
DESCRIPTION:Division 9 Board Meeting \nLocation: Bob Lawrence’s House
URL:https://div9.ncrnmra.org/event/division-9-board-meeting-3/
CATEGORIES:Board Meeting
END:VEVENT
BEGIN:VEVENT
DTSTART;TZID=UTC:20260104T190000
DTEND;TZID=UTC:20260104T210000
DTSTAMP:20260424T200214
CREATED:20251103T224523Z
LAST-MODIFIED:20251103T224523Z
UID:230-1767553200-1767560400@div9.ncrnmra.org
SUMMARY:Division 9 Board Meeting
DESCRIPTION:
URL:https://div9.ncrnmra.org/event/division-9-board-meeting-2/
LOCATION:TBA
CATEGORIES:Board Meeting
END:VEVENT
BEGIN:VEVENT
DTSTART;TZID=UTC:20251005T190000
DTEND;TZID=UTC:20251005T200000
DTSTAMP:20260424T200214
CREATED:20250401T234733Z
LAST-MODIFIED:20250401T234733Z
UID:199-1759690800-1759694400@div9.ncrnmra.org
SUMMARY:Board Meeting
DESCRIPTION:
URL:https://div9.ncrnmra.org/event/board-meeting-3/
LOCATION:TBA
CATEGORIES:Board Meeting
END:VEVENT
BEGIN:VEVENT
DTSTART;TZID=UTC:20250720T190000
DTEND;TZID=UTC:20250720T200000
DTSTAMP:20260424T200214
CREATED:20250401T234558Z
LAST-MODIFIED:20250507T013809Z
UID:195-1753038000-1753041600@div9.ncrnmra.org
SUMMARY:Board Meeting
DESCRIPTION:
URL:https://div9.ncrnmra.org/event/board-meeting-2/
LOCATION:TBA
CATEGORIES:Board Meeting
END:VEVENT
BEGIN:VEVENT
DTSTART;TZID=UTC:20250406T190000
DTEND;TZID=UTC:20250406T200000
DTSTAMP:20260424T200214
CREATED:20241221T153246Z
LAST-MODIFIED:20241221T153947Z
UID:95-1743966000-1743969600@div9.ncrnmra.org
SUMMARY:Board Meeting
DESCRIPTION:
URL:https://div9.ncrnmra.org/event/board-meeting/
LOCATION:TBA
CATEGORIES:Board Meeting
END:VEVENT
BEGIN:VEVENT
DTSTART;TZID=UTC:20250105T190000
DTEND;TZID=UTC:20250105T200000
DTSTAMP:20260424T200214
CREATED:20241221T150929Z
LAST-MODIFIED:20241221T154157Z
UID:85-1736103600-1736107200@div9.ncrnmra.org
SUMMARY:Division 9 Board Meeting
DESCRIPTION:
URL:https://div9.ncrnmra.org/event/division-9-board-meeting/
LOCATION:Kalamazoo Bridge Club\, 648 Maple Hill Drive\, Kalamazoo\, MI\, 49009\, United States
CATEGORIES:Board Meeting
END:VEVENT
END:VCALENDAR